BEGIN:VCALENDAR
VERSION:2.0
PRODID:-//Squarespace Inc/Squarespace 6//v6//EN
BEGIN:VEVENT
UID:51a57883e4b0d5c254ded576@squarespace.com
DTSTAMP:20130530T080426Z
DTSTART:20130513T080000Z
DTEND:20130513T110000Z
SUMMARY:Opening Night!
END:VEVENT
END:VCALENDAR
